BEGIN:VCALENDAR
PRODID:-//eluceo/ical//2.0/EN
VERSION:2.0
CALSCALE:GREGORIAN
BEGIN:VEVENT
UID:4a6db6de48da1874b38800e2e2577737
DTSTAMP:20260422T184405Z
SUMMARY:Temple Adath Yeshurun Brotherhood Mitvah
DESCRIPTION:Jewish Federation of New Hampshire\nCommunity Calendar\nhttps:/
 /jewishnh.org/community-calendar/temple-adath-yeshurun-brotherhood-mitvah-
 1698766505\n\nTemple Adath Yeshurun's Brotherhood will once again host the
  Holiday Mitzvah Program.\nVolunteers can choose from several different jo
 bs\, to fill in for our Christian Neighbors so that they may enjoy their h
 olidays\; Serving meals to those who are hungry\, meals on wheels delivery
 \, covering the information desks at local hospitals\, assisting with Bing
 o night at the Veteran's Hospital\, delivering food to our local police an
 d fire stations and more!\nVolunteers are scheduled ahead of time for a s.
 ..
DTSTART;TZID=America/New_York:20231224T090000
DTEND;TZID=America/New_York:20231225T160000
END:VEVENT
END:VCALENDAR
