BEGIN:VCALENDAR
PRODID:-//eluceo/ical//2.0/EN
VERSION:2.0
CALSCALE:GREGORIAN
BEGIN:VEVENT
UID:6a38239eabf3accddd13743c6ff6077b
DTSTAMP:20260422T184451Z
SUMMARY:Temple Adath Yeshurun Family Shabbat and Pizza
DESCRIPTION:Jewish Federation of New Hampshire\nCommunity Calendar\nhttps:/
 /jewishnh.org/community-calendar/temple-adath-yeshurun-family-shabbat-and-
 pizza-1706822779\n\nRSVP required by Thursday\, Feb. 29th.
DTSTART;TZID=America/New_York:20240301T180000
DTEND;TZID=America/New_York:20240301T200000
END:VEVENT
END:VCALENDAR
