BEGIN:VCALENDAR
PRODID:-//eluceo/ical//2.0/EN
VERSION:2.0
CALSCALE:GREGORIAN
BEGIN:VEVENT
UID:5e1897a1201b021543e7fb4ae5004785
DTSTAMP:20260423T013137Z
SUMMARY:Temple Adath Yeshurun MLK Observance
DESCRIPTION:Jewish Federation of New Hampshire\nCommunity Calendar\nhttps:/
 /jewishnh.org/community-calendar/temple-adath-yeshurun-mlk-observance-1698
 765199\n\nTemple Adath Yeshurun will Co-Sponsor The Annual MLK Observance 
 from 1pm -4pm at Memorial High School in Manchester\, NH. "Communication A
 cross Difference: Toward Beloved Community"
DTSTART;TZID=America/New_York:20240115T130000
DTEND;TZID=America/New_York:20240115T160000
END:VEVENT
END:VCALENDAR
