BEGIN:VCALENDAR
PRODID:-//eluceo/ical//2.0/EN
VERSION:2.0
CALSCALE:GREGORIAN
BEGIN:VEVENT
UID:3eeb78b229bbbbe674ae77c295c3f630
DTSTAMP:20260422T184024Z
SUMMARY:Temple Adath Yeshurun Religious Response to Hunger
DESCRIPTION:Jewish Federation of New Hampshire\nCommunity Calendar\nhttps:/
 /jewishnh.org/community-calendar/temple-adath-yeshurun-religious-response-
 to-hunger-1629150921\n\nEach year\, during the High Holy Days\, Temple Ada
 th Yeshurun leads the local religious community in a food drive to help ou
 r neighbors in need.  We ask that you bring your non-perishable food donat
 ions to 152 Prospect Street on Sunday\, Sept. 12th between 11\;30AM AND 2:
 00PM or on Tuesday\, Sept. 14th\, between  5:00pm and 7:00pm.  We will be 
 collecting the food outside.  Please enter on Ash Street and exit onto Bee
 ch Street\, which is one way.
DTSTART;TZID=America/New_York:20210912T113000
DTEND;TZID=America/New_York:20210912T140000
END:VEVENT
END:VCALENDAR
