BEGIN:VCALENDAR
PRODID:-//eluceo/ical//2.0/EN
VERSION:2.0
CALSCALE:GREGORIAN
BEGIN:VEVENT
UID:7600dc61d4420f79482ede3d92136645
DTSTAMP:20260423T130827Z
SUMMARY:Temple Adath Yeshurun Sisterhood & Brotherhood Shabbat Service
DESCRIPTION:Jewish Federation of New Hampshire\nCommunity Calendar\nhttps:/
 /jewishnh.org/community-calendar/temple-adath-yeshurun-sisterhood--brother
 hood-shabbat-service-1648225001\n\nShabbat Services at TAY.
DTSTART;TZID=America/New_York:20220610T190000
DTEND;TZID=America/New_York:20220610T210000
END:VEVENT
END:VCALENDAR
