BEGIN:VCALENDAR
PRODID:-//eluceo/ical//2.0/EN
VERSION:2.0
CALSCALE:GREGORIAN
BEGIN:VEVENT
UID:41a19b23d9175e51ddb84e23f514e5f3
DTSTAMP:20260422T070749Z
SUMMARY:Temple Adath Yeshurun Sisterhood Chanukah and Gift Shop
DESCRIPTION:Jewish Federation of New Hampshire\nCommunity Calendar\nhttps:/
 /jewishnh.org/community-calendar/temple-adath-yeshurun-sisterhood-chanukah
 -and-gift-shop-1572626395\n\nWe have gelt\, dreidels\,  candles\, specialt
 y teas and coffees\, Jewish legos\, books\, games and puzzles for children
 \, tzedakah boxes\, mezuzahs\, handmade menorahs\, candy\, our Sisterhood 
 Cookbook\, and much more!\nCome early for the best selection.\nWe look for
 ward to seeing you there!\n(We accept cash and checks made payable to "TAY
  Sisterhood".)\n\n
DTSTART;TZID=America/New_York:20191215T100000
DTEND;TZID=America/New_York:20191215T130000
END:VEVENT
END:VCALENDAR
