BEGIN:VCALENDAR
PRODID:-//eluceo/ical//2.0/EN
VERSION:2.0
CALSCALE:GREGORIAN
BEGIN:VEVENT
UID:3dee71ca79d0bfb83fb95f88cc33a678
DTSTAMP:20260421T233020Z
SUMMARY:Temple Adath Yeshurun Sisterhood Chanukah Shop
DESCRIPTION:Jewish Federation of New Hampshire\nCommunity Calendar\nhttps:/
 /jewishnh.org/community-calendar/temple-adath-yeshurun-sisterhood-chanukah
 -shop-1698764858\n\nTAY's Sisterhood's Chanukah Shop will be open for all 
 of your Chanukah needs!\nOur hours are: Tuesday\, Nov\, 14\, Thursday\, No
 v. 16\, Tuesday\, Nov. 28\, Thursday\, Nov. 30\, all from 3pm to 6pm.\nWe 
 will also be open on Sunday\, Dec. 3rd\, from 10am to 1pm.\nWe will have C
 hanukah themed gifts for everyone on your list!\nChildren's Books\, Games\
 , Puzzles\, Playing Cards\, Finger Puppets\, children and adults Chanukah 
 Socks\, Dreidels\, Gelt and Chanukah Wrapping paper. The shop will remain 
 throughout Chanuk...
DTSTART;TZID=America/New_York:20231114T150000
DTEND;TZID=America/New_York:20231114T180000
END:VEVENT
END:VCALENDAR
