BEGIN:VCALENDAR
PRODID:-//eluceo/ical//2.0/EN
VERSION:2.0
CALSCALE:GREGORIAN
BEGIN:VEVENT
UID:881d75d51ea6fa58e08de402a05e7d82
DTSTAMP:20260421T232921Z
SUMMARY:Temple Adath Yeshurun Sisterhood Chanukah Shop
DESCRIPTION:Jewish Federation of New Hampshire\nCommunity Calendar\nhttps:/
 /jewishnh.org/community-calendar/temple-adath-yeshurun-sisterhood-chanukah
 -shop-1699025671\n\nThe Chanukah Shop at TAY is open! 3pm to 6pm.
DTSTART;TZID=America/New_York:20231116T150000
DTEND;TZID=America/New_York:20231116T180000
END:VEVENT
END:VCALENDAR
