BEGIN:VCALENDAR
PRODID:-//eluceo/ical//2.0/EN
VERSION:2.0
CALSCALE:GREGORIAN
BEGIN:VEVENT
UID:6e13003202ce05a6f8cabc92367fc9d8
DTSTAMP:20260423T114843Z
SUMMARY:Temple Adath Yeshurun Sisterhood Chanukah Shop
DESCRIPTION:Jewish Federation of New Hampshire\nCommunity Calendar\nhttps:/
 /jewishnh.org/community-calendar/temple-adath-yeshurun-sisterhood-chanukah
 -shop-1699025838\n\nTemple Adath Yeshurun Chanukah Shop is open 3pm to 6pm
 !
DTSTART;TZID=America/New_York:20231130T150000
DTEND;TZID=America/New_York:20231130T180000
END:VEVENT
END:VCALENDAR
