BEGIN:VCALENDAR
PRODID:-//eluceo/ical//2.0/EN
VERSION:2.0
CALSCALE:GREGORIAN
BEGIN:VEVENT
UID:c30b2ed3ac00e4eeacc47e7a9ec9347e
DTSTAMP:20260422T225137Z
SUMMARY:Temple Adath Yeshurun Sisterhood Membership Dinner
DESCRIPTION:Jewish Federation of New Hampshire\nCommunity Calendar\nhttps:/
 /jewishnh.org/community-calendar/temple-adath-yeshurun-sisterhood-membersh
 ip-dinner-1692977273\n\nTAY Sisterhood members are invited to a dinner on 
 Monday\, Oct. 16 at 6 P.M. in the social hall featuring an Ethiopian meal 
 and program about the history of Jews in that country. Our Woman of the Ye
 ar Award will be presented.
DTSTART;TZID=America/New_York:20231016T180000
DTEND;TZID=America/New_York:20231016T200000
END:VEVENT
END:VCALENDAR
