BEGIN:VCALENDAR
PRODID:-//eluceo/ical//2.0/EN
VERSION:2.0
CALSCALE:GREGORIAN
BEGIN:VEVENT
UID:12e07f673c789eefb936ef9c96133416
DTSTAMP:20260422T192301Z
SUMMARY:Temple Beth Abraham - Sundaes on Wednesdays
DESCRIPTION:Jewish Federation of New Hampshire\nCommunity Calendar\nhttps:/
 /jewishnh.org/community-calendar/temple-beth-abraham---sundaes-on-wednesda
 ys-1687804165\n\nJoin Temple Beth Abraham for ice cream (on us!) at 6:00 p
 m at Mel's Funway Favorite Ice Cream\, Litchfield\, NH.Come find our sign 
 to get your coupon to get your ice cream!Join us for Minyan at 7:00 pm at 
 a nearby field.Open to all! Check out our website for more upcoming dates 
 and locations!
DTSTART;TZID=America/New_York:20230712T180000
DTEND;TZID=America/New_York:20230712T193000
END:VEVENT
END:VCALENDAR
