BEGIN:VCALENDAR
PRODID:-//eluceo/ical//2.0/EN
VERSION:2.0
CALSCALE:GREGORIAN
BEGIN:VEVENT
UID:f6b72e2160a1c09105f4cdecd8166810
DTSTAMP:20260422T135736Z
SUMMARY:Temple Beth Abraham - Sundaes on Wednesdays
DESCRIPTION:Jewish Federation of New Hampshire\nCommunity Calendar\nhttps:/
 /jewishnh.org/community-calendar/temple-beth-abraham---sundaes-on-wednesda
 ys-1687804316\n\nJoin Temple Beth Abraham for ice cream (on us!) at 6:00 p
 m at King Kone\, Merrimack\, NH.Come find our sign to get your coupon to g
 et your ice cream!Join us for Minyan at 7:00 pm at a nearby field.Open to 
 all! Check out our website for more upcoming dates and locations!
DTSTART;TZID=America/New_York:20230719T180000
DTEND;TZID=America/New_York:20230719T193000
END:VEVENT
END:VCALENDAR
