BEGIN:VCALENDAR
PRODID:-//eluceo/ical//2.0/EN
VERSION:2.0
CALSCALE:GREGORIAN
BEGIN:VEVENT
UID:0a2c1cd6daab76d0c7039ca3fcfd3ba5
DTSTAMP:20260423T003505Z
SUMMARY:Temple Beth Abraham - Sundaes on Wednesdays
DESCRIPTION:Jewish Federation of New Hampshire\nCommunity Calendar\nhttps:/
 /jewishnh.org/community-calendar/temple-beth-abraham---sundaes-on-wednesda
 ys-1687804843\n\nJoin us for ice cream (on us!) at 6:00 pm at Lix Ice Crea
 m\, Litchfield\, NH. Come find our sign to get your coupon to get your ice
  cream!Open to all!Join us for Minyan at 7:00 pm at a nearby field.Check o
 ut our website for more upcoming dates and locations.
DTSTART;TZID=America/New_York:20230802T180000
DTEND;TZID=America/New_York:20230802T193000
END:VEVENT
END:VCALENDAR
