BEGIN:VCALENDAR
PRODID:-//eluceo/ical//2.0/EN
VERSION:2.0
CALSCALE:GREGORIAN
BEGIN:VEVENT
UID:ad223b9938c898e71b147fe7dcaa8d90
DTSTAMP:20260422T171904Z
SUMMARY:Temple Beth Abraham - Sundaes on Wednesdays
DESCRIPTION:Jewish Federation of New Hampshire\nCommunity Calendar\nhttps:/
 /jewishnh.org/community-calendar/temple-beth-abraham---sundaes-on-wednesda
 ys-1687805189\n\nJoin us for ice cream (on us!) at 6:00 pm at The Big 1\, 
 Nashua\, NH.\n\nCome find our sign to get your coupon to get your ice crea
 m!\n\nOpen to all!\n\nJoin us for Minyan at 7:00 pm at a nearby field.\n\n
 Check out our website for more dates and locations!
DTSTART;TZID=America/New_York:20230830T180000
DTEND;TZID=America/New_York:20230830T193000
END:VEVENT
END:VCALENDAR
