BEGIN:VCALENDAR
PRODID:-//eluceo/ical//2.0/EN
VERSION:2.0
CALSCALE:GREGORIAN
BEGIN:VEVENT
UID:3721399af462f5ed655a7f10c2e49caf
DTSTAMP:20260423T102139Z
SUMMARY:Temple Beth Abraham - To Remember and To Learn
DESCRIPTION:Jewish Federation of New Hampshire\nCommunity Calendar\nhttps:/
 /jewishnh.org/community-calendar/temple-beth-abraham---to-remember-and-to-
 learn-1703105930\n\nDr. Kate DeConinck is the Director of the Cohen Center
  for Holocaust and Genocide Studies at Keene State College (https://www.ke
 ene.edu/academics/cchgs/).\n\nDr. DeConinck will speak to our congregation
  about The Cohen Center’s sponsored events and its collection of photos\
 , documents\, one-of-a-kind artifacts\, lesson plans for educators and oth
 er media resources.\n\nThe Cohen Center for Holocaust and Genocide Studies
  advances the public liberal arts mission of Keene State College to build 
 a ...
DTSTART;TZID=America/New_York:20240118T190000
DTEND;TZID=America/New_York:20240118T210000
END:VEVENT
END:VCALENDAR
