BEGIN:VCALENDAR
PRODID:-//eluceo/ical//2.0/EN
VERSION:2.0
CALSCALE:GREGORIAN
BEGIN:VEVENT
UID:9c2484470626373e0a5d631555c1a4cf
DTSTAMP:20260423T204758Z
SUMMARY:Temple Beth Abraham: "A Child's View of the Holocaust" Dance Perfor
 mance
DESCRIPTION:Jewish Federation of New Hampshire\nCommunity Calendar\nhttps:/
 /jewishnh.org/community-calendar/temple-beth-abraham-a-childs-view-of-the-
 holocaust-dance-performance-1708708254\n\nA touring group of highly traine
 d New England Dance Ensemble (NEDE.org) members ranging in age from 6-18 p
 resent a 40-minute production of “A Child’s View of the Holocaust” i
 n the Temple Beth Abraham Social Hall on Sunday\, April 7 at 1 pm.\n\nA li
 ght lunch at noon will precede the performance.\n\nArtistic Director Barba
 ra Mullen choreographed the original drama ballet in 1990. The production 
 recognizes the atrocities that occurred towards Jews at the hands of the N
 azi party in Germany b...
DTSTART;TZID=America/New_York:20240407T120000
DTEND;TZID=America/New_York:20240407T140000
END:VEVENT
END:VCALENDAR
