BEGIN:VCALENDAR
PRODID:-//eluceo/ical//2.0/EN
VERSION:2.0
CALSCALE:GREGORIAN
BEGIN:VEVENT
UID:990f24291afc92f274d6a28e6bdf4291
DTSTAMP:20260423T234021Z
SUMMARY:Temple Beth Abraham Annual Golf Tournament
DESCRIPTION:Jewish Federation of New Hampshire\nCommunity Calendar\nhttps:/
 /jewishnh.org/community-calendar/temple-beth-abraham-annual-golf-tournamen
 t-1562613395\n\nTemple Beth Abraham's Annual Golf Tournament\n7:30 am Regi
 stration\, 8:00 am Shotgun Start\nSouhegan Woods Golf Club\, Amherst NH\n\
 nThis fun filled event is open to all men and women\, members and non-memb
 ers. Space is limited. First come\, first served!\n\nPlease register onlin
 e or download your form and send it in at https://www.tbanashua.org/event/
 tba-annual-golf-tournament2019.html\n\nThe cost varies depending on the nu
 mber of players and if you choose to sponsor anything.
DTSTART;TZID=America/New_York:20190815T073000
DTEND;TZID=America/New_York:20190815T140000
END:VEVENT
END:VCALENDAR
