BEGIN:VCALENDAR
PRODID:-//eluceo/ical//2.0/EN
VERSION:2.0
CALSCALE:GREGORIAN
BEGIN:VEVENT
UID:6fefc5e0edfd3a604033de3944cdcc64
DTSTAMP:20260423T220446Z
SUMMARY:Temple Beth Abraham Blood Drive
DESCRIPTION:Jewish Federation of New Hampshire\nCommunity Calendar\nhttps:/
 /jewishnh.org/community-calendar/temple-beth-abraham-blood-drive-169867797
 0\n\nTemple Beth Abraham is hosting a Red Cross Blood Drive. Give blood at
  the Temple on Wednesday\, November 29\, 12:00 - 5:00 pmGo to redcrossbloo
 d.org to schedule an appointment\, enter in TEMPLEBETH in the\, "Make An A
 ppointment" field.
DTSTART;TZID=America/New_York:20231129T120000
DTEND;TZID=America/New_York:20231129T170000
END:VEVENT
END:VCALENDAR
