BEGIN:VCALENDAR
PRODID:-//eluceo/ical//2.0/EN
VERSION:2.0
CALSCALE:GREGORIAN
BEGIN:VEVENT
UID:1984db896ce64e500daf86810b0c95a5
DTSTAMP:20260423T000821Z
SUMMARY:Temple Beth Abraham Family Shabbat Shavuot
DESCRIPTION:Jewish Federation of New Hampshire\nCommunity Calendar\nhttps:/
 /jewishnh.org/community-calendar/temple-beth-abraham-family-shabbat-shavuo
 t-1684418382\n\nJoin the main service for Torah reading at 11:00 am follow
 ed by a child friendly musical Shabbat service.\n\nA community dairy lunch
 eon will be available after services around 12:00 pm.\n\nOpen to all and f
 ree to attend!\n\nKindly register so we know how many to plan for.
DTSTART;TZID=America/New_York:20230527T110000
DTEND;TZID=America/New_York:20230527T130000
END:VEVENT
END:VCALENDAR
