BEGIN:VCALENDAR
PRODID:-//eluceo/ical//2.0/EN
VERSION:2.0
CALSCALE:GREGORIAN
BEGIN:VEVENT
UID:e95ccf9d8caea1a968085be88e4e3311
DTSTAMP:20260423T100819Z
SUMMARY:Temple Beth Abraham Goes to The Band's Visit
DESCRIPTION:Jewish Federation of New Hampshire\nCommunity Calendar\nhttps:/
 /jewishnh.org/community-calendar/temple-beth-abraham-goes-to-the-bands-vis
 it-1699633980\n\nJoin Temple Beth Abraham to go see the Band's Visit in Bo
 ston. In this Tony Award-winning\, feel-good musical\, an Egyptian band of
  musicians is stranded in a small Israeli town after a transportation mix 
 up\, and with no lodgings available\, the locals take them in for the nigh
 t. By morning\, surprising connections have been made and friendships forg
 ed over moments of shared humanity and love of music. A brief visit can ha
 ve a lasting impact in this stunning musical adaptation of the acclaimed 2
 0...
DTSTART;TZID=America/New_York:20231126T143000
DTEND;TZID=America/New_York:20231126T173000
END:VEVENT
END:VCALENDAR
