BEGIN:VCALENDAR
PRODID:-//eluceo/ical//2.0/EN
VERSION:2.0
CALSCALE:GREGORIAN
BEGIN:VEVENT
UID:16c08970025c6eb1192f1e67f56f6a28
DTSTAMP:20260422T141419Z
SUMMARY:Temple Beth Abraham Honors Long Time Teacher with Service and Lunce
 hon
DESCRIPTION:Jewish Federation of New Hampshire\nCommunity Calendar\nhttps:/
 /jewishnh.org/community-calendar/temple-beth-abraham-honors-long-time-teac
 her-with-service-and-luncehon-1553878628\n\nHonoring Rina Scharf: Service 
 and Luncheon\n\nSaturday\, April 6\n9:30 a.m. service followed by a festiv
 e luncheon\n\nRaise a glass\, share a story. Join us as we gather together
  to honor Rina Scharf for 40 years of dedicated service to our community. 
 Come with your memories and your stories to share with Rina at the luncheo
 n. 
DTSTART;TZID=America/New_York:20190406T093000
DTEND;TZID=America/New_York:20190406T143000
END:VEVENT
END:VCALENDAR
