BEGIN:VCALENDAR
PRODID:-//eluceo/ical//2.0/EN
VERSION:2.0
CALSCALE:GREGORIAN
BEGIN:VEVENT
UID:6020e237803a87371467ec45d4afa1f0
DTSTAMP:20260423T080713Z
SUMMARY:Temple Beth Abraham Passover Community Seder
DESCRIPTION:Jewish Federation of New Hampshire\nCommunity Calendar\nhttps:/
 /jewishnh.org/community-calendar/temple-beth-abraham-passover-community-se
 der-1678464162\n\nJoin Temple Beth Abraham\, Nashua\, NH for our Second Ni
 ght Passover Seder!Open to all! Registration is required.Adult members: $3
 0 Adult nonmembers: $36Children (6-12) member family: $15 Children (6-12) 
 nonmember: $20Children 5 and under are free.Sponsor a bottle of wine: $10P
 lease do reach out to us\, however\, if cost is a barrier!
DTSTART;TZID=America/New_York:20230406T173000
DTEND;TZID=America/New_York:20230406T200000
END:VEVENT
END:VCALENDAR
