BEGIN:VCALENDAR
PRODID:-//eluceo/ical//2.0/EN
VERSION:2.0
CALSCALE:GREGORIAN
BEGIN:VEVENT
UID:ac949e8a05efbfd226148a9a886a9aa6
DTSTAMP:20260423T031911Z
SUMMARY:Temple Beth Abraham Passover Expo
DESCRIPTION:Jewish Federation of New Hampshire\nCommunity Calendar\nhttps:/
 /jewishnh.org/community-calendar/temple-beth-abraham-passover-expo-1678463
 406\n\nCome join us at Temple Beth Abraham\, Nashua\, NH for our Passover 
 Expo 2023!\n\nGet tools and ideas to personalize your celebration and crea
 te a meaningful and engaging holiday.\n\nOpen to all\, no registration req
 uired! Something for everyone!\n\nFor more information\, visit https://tba
 nashua.shulcloud.com/event/Passover-Expo-2023.
DTSTART;TZID=America/New_York:20230326T150000
DTEND;TZID=America/New_York:20230326T170000
END:VEVENT
END:VCALENDAR
