BEGIN:VCALENDAR
PRODID:-//eluceo/ical//2.0/EN
VERSION:2.0
CALSCALE:GREGORIAN
BEGIN:VEVENT
UID:ebf2e90a19e42a546755bbea7e619912
DTSTAMP:20260425T120528Z
SUMMARY:Temple Beth Abraham Pride Kabbalat Shabbat
DESCRIPTION:Jewish Federation of New Hampshire\nCommunity Calendar\nhttps:/
 /jewishnh.org/community-calendar/temple-beth-abraham-pride-kabbalat-shabba
 t-1684519148\n\nJoin Temple Beth Abraham for a special Kabbalat Shabbat se
 rvice outside in the tent\, complete with a rainbow challah oneg! Open to 
 all\, no registration required.
DTSTART;TZID=America/New_York:20230609T193000
DTEND;TZID=America/New_York:20230609T210000
END:VEVENT
END:VCALENDAR
