BEGIN:VCALENDAR
PRODID:-//eluceo/ical//2.0/EN
VERSION:2.0
CALSCALE:GREGORIAN
BEGIN:VEVENT
UID:13f373f7151fdfc0622a1f8c299a893b
DTSTAMP:20260423T233525Z
SUMMARY:Temple Beth Abraham Rummage Sale
DESCRIPTION:Jewish Federation of New Hampshire\nCommunity Calendar\nhttps:/
 /jewishnh.org/community-calendar/temple-beth-abraham-rummage-sale-16975656
 37\n\nJoin TBA Sisterhood for our Annual Fall Rummage Sale!Cheap prices\, 
 merchandise from over 100 families!Clothing\, shoes\, accessories\, househ
 old & kitchen items\, sports equipment\, baby and children's clothes and i
 tems and so much more!
DTSTART;TZID=America/New_York:20231029T090000
DTEND;TZID=America/New_York:20231029T150000
END:VEVENT
END:VCALENDAR
