BEGIN:VCALENDAR
PRODID:-//eluceo/ical//2.0/EN
VERSION:2.0
CALSCALE:GREGORIAN
BEGIN:VEVENT
UID:f05832ca7856205977ec447285c026fc
DTSTAMP:20260422T062258Z
SUMMARY:Temple Beth Abraham Sisterhood Spring Rummage Sale
DESCRIPTION:Jewish Federation of New Hampshire\nCommunity Calendar\nhttps:/
 /jewishnh.org/community-calendar/temple-beth-abraham-sisterhood-spring-rum
 mage-sale\n\nTemple Beth Abraham Sisterhood Spring Rummage Sale\n9 AM– 3
  PM\, Temple Beth Abraham\, Nashua\n\nThe Sisterhood is asking for volunte
 ers to help. Proceeds support TBA and local charitable agencies. More info
 rmation or to volunteer contact Robin Rubin: 571-1090.
DTSTART;TZID=America/New_York:20180418T090000
DTEND;TZID=America/New_York:20180418T150000
END:VEVENT
END:VCALENDAR
