BEGIN:VCALENDAR
PRODID:-//eluceo/ical//2.0/EN
VERSION:2.0
CALSCALE:GREGORIAN
BEGIN:VEVENT
UID:a29c13a63252e946ee30578c2b7119f2
DTSTAMP:20260422T100105Z
SUMMARY:Temple Beth Abraham Tisha B’Av Evening Service and Reading of Aic
 ha
DESCRIPTION:Jewish Federation of New Hampshire\nCommunity Calendar\nhttps:/
 /jewishnh.org/community-calendar/temple-beth-abraham-tisha-bav-evening-ser
 vice-and-reading-of-aicha-1689624578\n\nJoin Temple Beth Abraham for our h
 our-long service\, that will take place in the tent behind the synagogue a
 nd via Zoom. Please call or email for Zoom link.Tisha B'Av\, the 9th day o
 f the month of Av\, is a traditional fast day mourning the destruction of 
 the Temples in Jerusalem and other catastrophes of Jewish history. The day
  also serves as the beginning of the lead up to the High Holy Days and ser
 ves as a time to begin reflecting on the "brokenness" of the past year and
  how we move hopefully...
DTSTART;TZID=America/New_York:20230726T200000
DTEND;TZID=America/New_York:20230726T211500
END:VEVENT
END:VCALENDAR
