BEGIN:VCALENDAR
PRODID:-//eluceo/ical//2.0/EN
VERSION:2.0
CALSCALE:GREGORIAN
BEGIN:VEVENT
UID:b9f7f7a090d8514d85326789e02233e3
DTSTAMP:20260422T183212Z
SUMMARY:Temple Beth Abraham's Annual Charity Golf Tournament 2022
DESCRIPTION:Jewish Federation of New Hampshire\nCommunity Calendar\nhttps:/
 /jewishnh.org/community-calendar/temple-beth-abrahams-annual-charity-golf-
 tournament-2022-1654013979\n\nThis fun filled charity event is open to all
 \, members and non-members. Space is limited. First come\, first served!
DTSTART;TZID=America/New_York:20220721T073000
DTEND;TZID=America/New_York:20220721T140000
END:VEVENT
END:VCALENDAR
