BEGIN:VCALENDAR
PRODID:-//eluceo/ical//2.0/EN
VERSION:2.0
CALSCALE:GREGORIAN
BEGIN:VEVENT
UID:6275144a6ec95eedc85e52babf395b86
DTSTAMP:20260422T095147Z
SUMMARY:Temple Beth Abraham's Annual Israeli Street Festival
DESCRIPTION:Jewish Federation of New Hampshire\nCommunity Calendar\nhttps:/
 /jewishnh.org/community-calendar/temple-beth-abrahams-annual-israeli-stree
 t-festival\n\nSave The Date for Temple Beth Abraham's Annual Israeli Stree
 t Festival! Things kick off around 10 AM!
DTSTART;TZID=America/New_York:20190602T100000
DTEND;TZID=America/New_York:20190602T130000
END:VEVENT
END:VCALENDAR
