BEGIN:VCALENDAR
PRODID:-//eluceo/ical//2.0/EN
VERSION:2.0
CALSCALE:GREGORIAN
BEGIN:VEVENT
UID:8835d2a57aedf358cd972531cc9bdb4f
DTSTAMP:20260422T061221Z
SUMMARY:Temple Beth Abraham's Chanukkah Community Event
DESCRIPTION:Jewish Federation of New Hampshire\nCommunity Calendar\nhttps:/
 /jewishnh.org/community-calendar/temple-beth-abrahams-chanukkah-community-
 event-1701718051\n\nCome join Temple Beth Abraham's Chanukkah community ce
 lebration! We will have balloon fun for all ages\, provided by Silly Solut
 ions\, a delicious deli dinner\, a sing-along and of course\, latkes and s
 ufganiyot!Open to all!Cost to attend: $10 per adult (over 12) $5 per child
  (ages 4-12) Free for children (ages 0-3)Please register at our website so
  we know how many to plan for!
DTSTART;TZID=America/New_York:20231213T173000
DTEND;TZID=America/New_York:20231213T193000
END:VEVENT
END:VCALENDAR
