BEGIN:VCALENDAR
PRODID:-//eluceo/ical//2.0/EN
VERSION:2.0
CALSCALE:GREGORIAN
BEGIN:VEVENT
UID:0c588dc3297a94136fa2f041e4535684
DTSTAMP:20260424T183115Z
SUMMARY:Temple Beth Jacob Community Passover Seder
DESCRIPTION:Jewish Federation of New Hampshire\nCommunity Calendar\nhttps:/
 /jewishnh.org/community-calendar/temple-beth-jacob-community-passover-sede
 r\n\nRSVP Required no later than April 12\, with how many and what you wil
 l bring (office@tbjconcord.org or 229-8581)\n\n$15 per adult (13 and over)
 \, $7 per child (6-12 years)\n\nAll are asked to bring a prepared Passover
  dish (cooked and ready to serve)\n\nAll foods must be within Passover Kas
 hrut restrictions. This is a meat meal.
DTSTART;TZID=America/New_York:20190420T174500
DTEND;TZID=America/New_York:20190420T200000
END:VEVENT
END:VCALENDAR
