BEGIN:VCALENDAR
PRODID:-//eluceo/ical//2.0/EN
VERSION:2.0
CALSCALE:GREGORIAN
BEGIN:VEVENT
UID:22b22f281c68e9842dc14b4d93f470f2
DTSTAMP:20260422T154637Z
SUMMARY:Temple Beth Jacob Purimshpiel: Shpiel-a-Lot
DESCRIPTION:Jewish Federation of New Hampshire\nCommunity Calendar\nhttps:/
 /jewishnh.org/community-calendar/temple-beth-jacob-purimshpiel-shpiel-a-lo
 t-1583161256\n\nThe 23rd annual TBJ Purimshpiel is a spoof on Spamalot and
  Camelot!
DTSTART;TZID=America/New_York:20200314T190000
DTEND;TZID=America/New_York:20200314T210000
END:VEVENT
END:VCALENDAR
