BEGIN:VCALENDAR
PRODID:-//eluceo/ical//2.0/EN
VERSION:2.0
CALSCALE:GREGORIAN
BEGIN:VEVENT
UID:cdf3731ee650c7204bc863eb9bbc7a5e
DTSTAMP:20260423T090817Z
SUMMARY:Temple Beth Jacob's Annual Purimshpiel "The Megillah According To H
 amilton"
DESCRIPTION:Jewish Federation of New Hampshire\nCommunity Calendar\nhttps:/
 /jewishnh.org/community-calendar/temple-beth-jacobs-annual-purimshpiel-the
 -megillah-according-to-hamilton-1707146532\n\nFor a little over a quarter 
 century\, the TBJ Purimshpiel Players have been delighting audiences with 
 their zany and musical retelling of this ancient story.  Over the years\, 
 the TBJ Purimshpiel has become a most anticipated event not only among the
  Jewish community\, but to the greater Concord community as well\; selling
  out (or nearly selling out) the house each year. Whether you choose to at
 tend the Saturday or Sunday performance\, this year's rendition will make 
 you want to laugh\, cry\, and...
DTSTART;TZID=America/New_York:20240406T080000
DTEND;TZID=America/New_York:20240407T073000
END:VEVENT
END:VCALENDAR
