BEGIN:VCALENDAR
PRODID:-//eluceo/ical//2.0/EN
VERSION:2.0
CALSCALE:GREGORIAN
BEGIN:VEVENT
UID:eda6fce150a110e61b89cea029710bf3
DTSTAMP:20260422T223204Z
SUMMARY:Temple B'nai Israel Benefit for Camp Resilience in Gilford
DESCRIPTION:Jewish Federation of New Hampshire\nCommunity Calendar\nhttps:/
 /jewishnh.org/community-calendar/temple-bnai-israel-benefit-for-camp-resil
 ience-in-gilford\n\nTemple B'Nai Israel's We Care Committee presents An ev
 ening of Doo Wop to benefit Camp Resilience in Gilford.\n\n7:45 PM\, Inter
  Lakes High School auditorium\, Route 25\, Meredith.\n\nThe performers wil
 l be The Bel Airs and Lee Lewis and the All Stars singing songs from the 5
 0s and 60s. Camp Resilience\, using the scenic beauty of the Lakes Region 
 of New Hampshire as its backdrop and home base\, provides sports\, adventu
 re activities and life skills programming for wounded warriors. The missio
 n of ...
DTSTART;TZID=America/New_York:20180526T190000
DTEND;TZID=America/New_York:20180526T210000
END:VEVENT
END:VCALENDAR
