BEGIN:VCALENDAR
PRODID:-//eluceo/ical//2.0/EN
VERSION:2.0
CALSCALE:GREGORIAN
BEGIN:VEVENT
UID:c47c3603e5c02e56c0130e8932979b46
DTSTAMP:20260422T154801Z
SUMMARY:We Care benefit concert with Folk Rock Band\, Gathering Time
DESCRIPTION:Jewish Federation of New Hampshire\nCommunity Calendar\nhttps:/
 /jewishnh.org/community-calendar/temple-bnai-israels-fall-we-care-benefit-
 concert-with-folk-rock-band-gathering-time\n\nTemple B'Nai Israel's fall W
 e Care benefit concert\n\nA concert to benefit Central New Hampshire VNA &
  Hospice. Gathering Time\, a folk-rock/Americana harmony trio\, has deep r
 oots in the ‘60s folk-rock\, with a healthy dash of traditional folk in 
 the mix. Doors open at 7 PM. Tickets are $27.50\, refreshments included.\n
 \nFor more information and to purchase tickets visit www.tbinh.org
DTSTART;TZID=America/New_York:20181027T194500
DTEND;TZID=America/New_York:20181027T210000
END:VEVENT
END:VCALENDAR
