BEGIN:VCALENDAR
PRODID:-//eluceo/ical//2.0/EN
VERSION:2.0
CALSCALE:GREGORIAN
BEGIN:VEVENT
UID:56ae92b462b513248386692ce8e1a8a2
DTSTAMP:20260422T223912Z
SUMMARY:Temple Israel - Portsmouth  Summer Camp
DESCRIPTION:Jewish Federation of New Hampshire\nCommunity Calendar\nhttps:/
 /jewishnh.org/community-calendar/temple-israel---portsmouth--summer-camp-1
 559388420\n\nIf you have children or grandchildren that are looking for a 
 week of summer activities and ages 3 to 5\, come join us for a week of FUN
  at Summer Camp at Temple Israel - Portsmouth/Early Learning Center. Monda
 y - Friday 8:45 a.m. - 1:00 p.m. July 15-19. Cost is 200.00 per child.
DTSTART;TZID=America/New_York:20190715T084500
DTEND;TZID=America/New_York:20190719T130000
END:VEVENT
END:VCALENDAR
