BEGIN:VCALENDAR
PRODID:-//eluceo/ical//2.0/EN
VERSION:2.0
CALSCALE:GREGORIAN
BEGIN:VEVENT
UID:95d7e3f64547d024336158a6572af54e
DTSTAMP:20260422T060756Z
SUMMARY:Temple Israel Back to Shul Fest
DESCRIPTION:Jewish Federation of New Hampshire\nCommunity Calendar\nhttps:/
 /jewishnh.org/community-calendar/temple-israel-back-to-school-bbq\n\nJoin 
 the Temple Israel Portsmouth community for a Back to Shul Fest! \n\nJoin
  us on Sunday\, August 28th from 12-4pm at Strawbery Banke for music\, foo
 d\, games and more. \n\nFree and open to the entire Jewish community!\n\n
 Sponsored by Temple Israel Portsmouth. Activities with PJ Library - New Ha
 mpshire.
DTSTART;TZID=America/New_York:20220828T120000
DTEND;TZID=America/New_York:20220828T150000
END:VEVENT
END:VCALENDAR
