BEGIN:VCALENDAR
PRODID:-//eluceo/ical//2.0/EN
VERSION:2.0
CALSCALE:GREGORIAN
BEGIN:VEVENT
UID:f746c9b84d3c7a9e22dcd91a269d4dff
DTSTAMP:20260423T011725Z
SUMMARY:Temple Israel Book Club on ZOOM
DESCRIPTION:Jewish Federation of New Hampshire\nCommunity Calendar\nhttps:/
 /jewishnh.org/community-calendar/temple-israel-book-club-on-zoom-169996626
 8\n\nTemple Israel’s book club will meet on Wednesday\, December 13 at 4
 :30 pm by Zoom to discuss the book Into the Bright Sunshine by Sam Freedma
 n. Those interested in participating are asked to email Ken Cohn at Newbeg
 in04@yahoo.com so that you can receive a Zoom link.\n\nThe Book Club Commi
 ttee is excited to announce that the Author\, Samuel G. Freedman\, will be
  joining our book club session to personally engage in conversation with u
 s about his book
DTSTART;TZID=America/New_York:20231213T163000
DTEND;TZID=America/New_York:20231213T180000
END:VEVENT
END:VCALENDAR
