BEGIN:VCALENDAR
PRODID:-//eluceo/ical//2.0/EN
VERSION:2.0
CALSCALE:GREGORIAN
BEGIN:VEVENT
UID:c9e283f331a1ef1cf71b532095902fc3
DTSTAMP:20260422T172025Z
SUMMARY:Temple Israel Jewish Book Club
DESCRIPTION:Jewish Federation of New Hampshire\nCommunity Calendar\nhttps:/
 /jewishnh.org/community-calendar/temple-israel-jewish-book-club-1705609239
 \n\nJoin for a ZOOM discussion of "Mad Honey" by Jodi Picoult.
DTSTART;TZID=America/New_York:20240313T163000
DTEND;TZID=America/New_York:20240313T183000
END:VEVENT
END:VCALENDAR
