BEGIN:VCALENDAR
PRODID:-//eluceo/ical//2.0/EN
VERSION:2.0
CALSCALE:GREGORIAN
BEGIN:VEVENT
UID:9f40fac2b9170810d10ed7b0629a30e6
DTSTAMP:20260422T221704Z
SUMMARY:Temple Israel Jewish Book Club ZOOM Meeting
DESCRIPTION:Jewish Federation of New Hampshire\nCommunity Calendar\nhttps:/
 /jewishnh.org/community-calendar/temple-israel-jewish-book-club-zoom-meeti
 ng-1670413197\n\nJoin us on ZOOM for a review of "The Winemaker's Wife."
DTSTART;TZID=America/New_York:20221214T163000
DTEND;TZID=America/New_York:20221214T183000
END:VEVENT
END:VCALENDAR
