BEGIN:VCALENDAR
PRODID:-//eluceo/ical//2.0/EN
VERSION:2.0
CALSCALE:GREGORIAN
BEGIN:VEVENT
UID:e2b91d0c4fde94ba03109e8624cab76f
DTSTAMP:20260423T112524Z
SUMMARY:Temple Israel MHT Passover Seder
DESCRIPTION:Jewish Federation of New Hampshire\nCommunity Calendar\nhttps:/
 /jewishnh.org/community-calendar/temple-israel-mht-passover-seder-15837807
 39\n\nPlease join us for Passover Seder!
DTSTART;TZID=America/New_York:20200409T180000
DTEND;TZID=America/New_York:20200409T210000
END:VEVENT
END:VCALENDAR
