BEGIN:VCALENDAR
PRODID:-//eluceo/ical//2.0/EN
VERSION:2.0
CALSCALE:GREGORIAN
BEGIN:VEVENT
UID:9f2fba7337ae97d1d19fc6481b37cfcf
DTSTAMP:20260422T033359Z
SUMMARY:Temple Israel MHT Passover Service
DESCRIPTION:Jewish Federation of New Hampshire\nCommunity Calendar\nhttps:/
 /jewishnh.org/community-calendar/temple-israel-mht-passover-service-158378
 0963\n\nPassover service
DTSTART;TZID=America/New_York:20200415T070000
DTEND;TZID=America/New_York:20200415T090000
END:VEVENT
END:VCALENDAR
