BEGIN:VCALENDAR
PRODID:-//eluceo/ical//2.0/EN
VERSION:2.0
CALSCALE:GREGORIAN
BEGIN:VEVENT
UID:0846f83fa8bd15f33676300c07284c14
DTSTAMP:20260423T040015Z
SUMMARY:Temple Israel Portsmouth Bereavement Support Group
DESCRIPTION:Jewish Federation of New Hampshire\nCommunity Calendar\nhttps:/
 /jewishnh.org/community-calendar/temple-israel-portsmouth-bereavement-supp
 ort-group-1651759778\n\nLoss\, and the grief that ensues\, is an experienc
 e that goes beyond words\, and yet\, we need to find words\, rituals\, and
  space for healing. This 8-week grief support group will provide space to 
 recognize\, allow\, and process feelings of grief\, and other challenges r
 elated to losses you have experienced. In a supportive space with others y
 ou will learn how to experience grief in ways that may enliven your life. 
 You may be inspired by others\, grow in self-awareness\, self-compassion\,
  and resiliency...
DTSTART;TZID=America/New_York:20220517T120000
DTEND;TZID=America/New_York:20220517T131500
END:VEVENT
END:VCALENDAR
