BEGIN:VCALENDAR
PRODID:-//eluceo/ical//2.0/EN
VERSION:2.0
CALSCALE:GREGORIAN
BEGIN:VEVENT
UID:54602b26218213bda50068dc315fc490
DTSTAMP:20260423T072956Z
SUMMARY:Temple Israel Shabbes Tisch Potluck Supper
DESCRIPTION:Jewish Federation of New Hampshire\nCommunity Calendar\nhttps:/
 /jewishnh.org/community-calendar/temple-israel-shabbes-tisch-potluck-suppe
 r-1709911804\n\nPlease bring a dish to share at Temple Israel Portsmouth's
  family-friendly community potluck Shabbat dinner in the Social Hall. (No 
 sanctuary service or Zoom component.)Potluck note: dishes brought into the
  temple must be vegetarian\, dairy\, or pareve. For more information\, ple
 ase review Appendix 1 of the Kashrut Policy\, available by contacting the 
 temple office.
DTSTART;TZID=America/New_York:20240405T183000
DTEND;TZID=America/New_York:20240405T203000
END:VEVENT
END:VCALENDAR
