BEGIN:VCALENDAR
PRODID:-//eluceo/ical//2.0/EN
VERSION:2.0
CALSCALE:GREGORIAN
BEGIN:VEVENT
UID:eb5610ffa302a26c5d4a0b1707a2d52a
DTSTAMP:20260424T044219Z
SUMMARY:Temple Israel Sisterhood Winter Bazaar Extravaganza
DESCRIPTION:Jewish Federation of New Hampshire\nCommunity Calendar\nhttps:/
 /jewishnh.org/community-calendar/temple-israel-sisterhood-winter-bazaar-ex
 travaganza-1569112517\n\nWinter Holiday Bazaar to extend peace and holiday
  spirits to all our neighbors and as a fundraiser for the Sisterhood.
DTSTART;TZID=America/New_York:20191201T100000
DTEND;TZID=America/New_York:20191201T140000
END:VEVENT
END:VCALENDAR
