BEGIN:VCALENDAR
PRODID:-//eluceo/ical//2.0/EN
VERSION:2.0
CALSCALE:GREGORIAN
BEGIN:VEVENT
UID:0b263b34a3374dd958640080605db565
DTSTAMP:20260423T040321Z
SUMMARY:Thanksgiving
DESCRIPTION:Jewish Federation of New Hampshire\nCommunity Calendar\nhttps:/
 /jewishnh.org/community-calendar/thanksgiving\n\nAmerican national holiday
  of Thanksgiving
DTSTART;TZID=America/New_York:20221124T000000
DTEND;TZID=America/New_York:20221124T235959
END:VEVENT
END:VCALENDAR
