BEGIN:VCALENDAR
PRODID:-//eluceo/ical//2.0/EN
VERSION:2.0
CALSCALE:GREGORIAN
BEGIN:VEVENT
UID:50af31f86caf2a58825c402aafc34318
DTSTAMP:20260423T025743Z
SUMMARY:Thanksgiving Interfaith Service
DESCRIPTION:Jewish Federation of New Hampshire\nCommunity Calendar\nhttps:/
 /jewishnh.org/community-calendar/thanksgiving-interfaith-service-160225643
 9\n\nEtz Hayim and Church of Transfiguration annual Thanksgiving service\,
  this year via Zoom. All are welcome to join our community. Please contact
  office@etzhayim.org for link.
DTSTART;TZID=America/New_York:20201124T191500
DTEND;TZID=America/New_York:20201124T204500
END:VEVENT
END:VCALENDAR
