BEGIN:VCALENDAR
PRODID:-//eluceo/ical//2.0/EN
VERSION:2.0
CALSCALE:GREGORIAN
BEGIN:VEVENT
UID:e81e4d824e2b249683bedd8214d45dbd
DTSTAMP:20260423T155501Z
SUMMARY:Thanksgiving Interfaith Service
DESCRIPTION:Jewish Federation of New Hampshire\nCommunity Calendar\nhttps:/
 /jewishnh.org/community-calendar/thanksgiving-interfaith-service-163370472
 8\n\nPlease join us as we pray and give thanks together.
DTSTART;TZID=America/New_York:20211123T191500
DTEND;TZID=America/New_York:20211123T204500
END:VEVENT
END:VCALENDAR
