BEGIN:VCALENDAR
PRODID:-//eluceo/ical//2.0/EN
VERSION:2.0
CALSCALE:GREGORIAN
BEGIN:VEVENT
UID:1ffaa25ad8c9e61ad334fc7cdcd1c9e2
DTSTAMP:20260422T033223Z
SUMMARY:Thanksgiving Interfaith Service
DESCRIPTION:Jewish Federation of New Hampshire\nCommunity Calendar\nhttps:/
 /jewishnh.org/community-calendar/thanksgiving-interfaith-service-166791982
 0\n\nThanksgiving Interfaith Service\n\nPlease join us on Tuesday November
  22nd at 7:15 p.m. as Etz Hayim Synagogue joins with our brothers and sist
 ers at the Church of the Transfiguration for our annual Interfaith Thanksg
 iving Service. Reverend Ray Bonin will host and lead services. Rabbi Peter
  Levy will speak. This has always been a beautiful evening of solidarity a
 nd joy. Your presence at the church that evening will make it even more so
 . Location: 1 Hood Rd\, Derry. The service will also be str...
DTSTART;TZID=America/New_York:20221122T191500
DTEND;TZID=America/New_York:20221122T204500
END:VEVENT
END:VCALENDAR
