BEGIN:VCALENDAR
PRODID:-//eluceo/ical//2.0/EN
VERSION:2.0
CALSCALE:GREGORIAN
BEGIN:VEVENT
UID:e2748b3f67ce9cf08c54c3e85409e1ae
DTSTAMP:20260422T222458Z
SUMMARY:The 22-State Solution: The End of the Arab-Israeli Conflict?
DESCRIPTION:Jewish Federation of New Hampshire\nCommunity Calendar\nhttps:/
 /jewishnh.org/community-calendar/the-22-state-solution-the-end-of-the-arab
 -israeli-conflict-1675882127\n\nAn Historical Overview of the Arab-Israeli
  Conflict Leading up to the Abraham Accords."\n\nPlease join Temple Israel
  Portsmouth for a presentation sponsored by the Israel Affairs Committee\,
  as part of the temple's observation of Yom Ha'atzmaut\, the 75th annivers
 ary of the founding of the state of Israel. Guest speaker Dr. Fredrik Meit
 on is a UNH Professor of History\, College of Liberal Arts. Bagel brunch s
 tarts at 11:00 am\, with the presentation from 11:30 - 12:30.
DTSTART;TZID=America/New_York:20230416T110000
DTEND;TZID=America/New_York:20230416T123000
END:VEVENT
END:VCALENDAR
